BEGIN:VCALENDAR
VERSION:2.0
PRODID:-//Beginnings Inc. - ECPv6.15.20//NONSGML v1.0//EN
CALSCALE:GREGORIAN
METHOD:PUBLISH
X-WR-CALNAME:Beginnings Inc.
X-ORIGINAL-URL:https://beginningsbriceland.org
X-WR-CALDESC:Events for Beginnings Inc.
REFRESH-INTERVAL;VALUE=DURATION:PT1H
X-Robots-Tag:noindex
X-PUBLISHED-TTL:PT1H
BEGIN:VTIMEZONE
TZID:America/Los_Angeles
BEGIN:DAYLIGHT
TZOFFSETFROM:-0800
TZOFFSETTO:-0700
TZNAME:PDT
DTSTART:20230312T100000
END:DAYLIGHT
BEGIN:STANDARD
TZOFFSETFROM:-0700
TZOFFSETTO:-0800
TZNAME:PST
DTSTART:20231105T090000
END:STANDARD
BEGIN:DAYLIGHT
TZOFFSETFROM:-0800
TZOFFSETTO:-0700
TZNAME:PDT
DTSTART:20240310T100000
END:DAYLIGHT
BEGIN:STANDARD
TZOFFSETFROM:-0700
TZOFFSETTO:-0800
TZNAME:PST
DTSTART:20241103T090000
END:STANDARD
BEGIN:DAYLIGHT
TZOFFSETFROM:-0800
TZOFFSETTO:-0700
TZNAME:PDT
DTSTART:20250309T100000
END:DAYLIGHT
BEGIN:STANDARD
TZOFFSETFROM:-0700
TZOFFSETTO:-0800
TZNAME:PST
DTSTART:20251102T090000
END:STANDARD
END:VTIMEZONE
BEGIN:VTIMEZONE
TZID:UTC
BEGIN:STANDARD
TZOFFSETFROM:+0000
TZOFFSETTO:+0000
TZNAME:UTC
DTSTART:20170101T000000
END:STANDARD
END:VTIMEZONE
BEGIN:VEVENT
DTSTART;TZID=America/Los_Angeles:20241121T133000
DTEND;TZID=America/Los_Angeles:20241121T150000
DTSTAMP:20260424T162805
CREATED:20241114T153834Z
LAST-MODIFIED:20241114T153834Z
UID:566-1732195800-1732201200@beginningsbriceland.org
SUMMARY:Thankful Tea
DESCRIPTION:Join us for a heartwarming ‘Thankful Tea’ next Thursday\, November 21st at 1:30 PM! Families are invited to enjoy a cozy tea party where children will serve tea\, replenish snacks\, and share the spirit of gratitude. It’s a lovely opportunity for parents and kids to connect\, enjoy treats\, and celebrate togetherness. We look forward to sharing this special time with you!
URL:https://beginningsbriceland.org/event/thankful-tea/
ATTACH;FMTTYPE=image/png:https://beginningsbriceland.org/wp-content/uploads/2024/11/Thankful.png
END:VEVENT
BEGIN:VEVENT
DTSTART;TZID=UTC:20241120T150000
DTEND;TZID=UTC:20241120T161500
DTSTAMP:20260424T162805
CREATED:20241114T160104Z
LAST-MODIFIED:20241114T160104Z
UID:573-1732114800-1732119300@beginningsbriceland.org
SUMMARY:Game Club
DESCRIPTION:Game Club is here for all board game and card game enthusiasts! Join us every Wednesday from 3:00 to 4:15 PM for a fun-filled afternoon of friendly competition\, strategy\, and laughs. Come ready to play\, learn new games\, and enjoy time with friends!
URL:https://beginningsbriceland.org/event/game-club/
ATTACH;FMTTYPE=image/png:https://beginningsbriceland.org/wp-content/uploads/2024/11/Thankful-2.png
END:VEVENT
BEGIN:VEVENT
DTSTART;TZID=America/Los_Angeles:20241119T150000
DTEND;TZID=America/Los_Angeles:20241119T161500
DTSTAMP:20260424T162805
CREATED:20241114T155024Z
LAST-MODIFIED:20241114T155058Z
UID:568-1732028400-1732032900@beginningsbriceland.org
SUMMARY:Lego Club
DESCRIPTION:LEGO Club meets every 1st and 3rd Tuesday! Kids are invited to unleash their creativity as they’re given fun themes to spark their imaginations. At the end of each session\, we’ll gather to showcase our creations and celebrate everyone’s unique ideas. Come build\, create\, and share! Legos are provided.
URL:https://beginningsbriceland.org/event/lego-club/
ATTACH;FMTTYPE=image/png:https://beginningsbriceland.org/wp-content/uploads/2024/11/Thankful-1.png
END:VEVENT
BEGIN:VEVENT
DTSTART;TZID=UTC:20240629T150000
DTEND;TZID=UTC:20240629T220000
DTSTAMP:20260424T162805
CREATED:20240429T181129Z
LAST-MODIFIED:20240608T072602Z
UID:528-1719673200-1719698400@beginningsbriceland.org
SUMMARY:50th Anniversary Celebration
DESCRIPTION:Please join us for our celebration of community and history on June 29th. There will be music from many past alumni\, good food including our “famous” pizza bread and much storytelling and laughter.\n\nPlease share this event so we can gather together with those that have been touched by Beginnings over the last 50 years.\n\nWe will also be creating a tile installation and tiles will be available for $50 at the event\, proceeds will go to the Beginnings scholarship fund.
URL:https://beginningsbriceland.org/event/50th-anniversary-celebration/
ATTACH;FMTTYPE=image/jpeg:https://beginningsbriceland.org/wp-content/uploads/2024/04/unnamed.jpg
END:VEVENT
BEGIN:VEVENT
DTSTART;TZID=UTC:20240601T120000
DTEND;TZID=UTC:20240601T200000
DTSTAMP:20260424T162805
CREATED:20240429T182002Z
LAST-MODIFIED:20240530T230104Z
UID:531-1717243200-1717272000@beginningsbriceland.org
SUMMARY:SoHum Bahkti Day Fest
DESCRIPTION:Kirtan is a part of Bhakti Yoga\, the Yoga of Devotion. Kirtan is a heart-opening sacred musical experience with irresistibly sanctifying power. By singing these ancient Sanskrit prayers\, we join a stream of consciousness & devotion that’s been flowing for centuries.\n\nSoHum Bhakti Day Fest Features truly outstanding local and international musicians with decades of performance experience and they are here to share\, come join Our Celebration.\n\nLine Up:\nTony KhalifeSkyWater Kirtan BandShemaia SkyWaterEliam AquarianColby BeersMisha LeahGina Jai Ma RotherMichael SantinoEliam Aquarian Kirtan BandNicolas Irbina & Colby BeersLisa & ShemaiaLieb & FriendsSeabury Gould & Colby Beers\norder to be announced… TBA\n\nAyurveda Multi-Course Meal prepared by Traci Webb\, Ayurvedic Living School www.ayurvedicliving.com\nMeal served: 3:30-6:30 pm\n\nSpinach Paneer\, Coconut Veggie Curry\, Dhal Soup\, Raita Probiotic Yogurt Condiment and Cilantro-Mint ChutneyDesserts: Kheer (Sweet Rice) & Halava (rice farina sweet) Chai\, Water\, Tea\, Coffee and Drinks available\n\nYoga\, Children’s ProgramVenders/Booths and more…\nPresale $25 Ticket / $15 MealAt the Door $30 Ticket / $20 Meal\nSevites – Volunteer/Exchange Please!\n\nContact:\nRanjith Jim Box(707) 223-3987ranjithjbox@gmail.com\n\nCampgrounds in the area:\nDean Creek ResortBenbow Campground & KOANadelos CampgroundWailaki Campground
URL:https://beginningsbriceland.org/event/sohum-bahkti-day-fest/
ATTACH;FMTTYPE=image/png:https://beginningsbriceland.org/wp-content/uploads/2024/04/Screen-Shot-2024-05-30-at-3.46.11-PM.png
END:VEVENT
BEGIN:VEVENT
DTSTART;TZID=UTC:20240504T100000
DTEND;TZID=UTC:20240504T150000
DTSTAMP:20260424T162805
CREATED:20240429T180220Z
LAST-MODIFIED:20240429T180325Z
UID:525-1714816800-1714834800@beginningsbriceland.org
SUMMARY:Spring Faire and Plant Sale
DESCRIPTION:On Saturday\, May 4th from 10am – 3pm\, Beginnings will be bursting with\nchoices for your garden. Come on out and join us in the meadow for our\nannual spring fair and plant sale. Our gardeners and students have been\nbusy starting plants for you to add to you gardens; other local gardeners will\nbe there also to tempt you with an outstanding array of veggie starts\,\nbeautiful annuals\, stalwart perennials\, heirloom tomatoes and resolute tree\nstock. These gardeners are full of knowledge and plants to help your garden\nflourish.\nIf you are an arts &amp; craft vendors\, give us a call to have a booth space. This\nis a great time for you and the kids to clean out the closets and drawers\nspread out a blanket in the meadow and sell or trade your wares. Come visit\nwith your friends and neighbors and watch the kids having fun playing\ngames. As always our kitchen crew will be serving up a delicious lunch.\nFor more information please call 923-3617.
URL:https://beginningsbriceland.org/event/spring-faire-and-plant-sale/
ATTACH;FMTTYPE=image/jpeg:https://beginningsbriceland.org/wp-content/uploads/2024/04/Green-Yellow-Creative-Farmers-Market-Poster.jpg
END:VEVENT
BEGIN:VEVENT
DTSTART;TZID=UTC:20240429T151500
DTEND;TZID=UTC:20240429T160000
DTSTAMP:20260424T162805
CREATED:20240429T183012Z
LAST-MODIFIED:20240429T183222Z
UID:533-1714403700-1714406400@beginningsbriceland.org
SUMMARY:Zumba Kids Class
DESCRIPTION:Kids Zumba Class \nAges 6-12 \n$10.00 \nEnjoy a dance warm up\, dance workout and games.  We explore different forms of tag\, that are dance and movement related. It’s a wonderful time for getting into your body and having fun after a day of school. \nGreat for kids who need some exercise and aren’t currently in sports. \nContact Asia @ 707-223-1888 with any questions.
URL:https://beginningsbriceland.org/event/zumba-kids-class/
ATTACH;FMTTYPE=image/jpeg:https://beginningsbriceland.org/wp-content/uploads/2024/04/IMG_5265.jpg
END:VEVENT
BEGIN:VEVENT
DTSTART;TZID=UTC:20240316T173000
DTEND;TZID=UTC:20240316T200000
DTSTAMP:20260424T162805
CREATED:20240305T011415Z
LAST-MODIFIED:20240305T011415Z
UID:517-1710610200-1710619200@beginningsbriceland.org
SUMMARY:Trivia Night
DESCRIPTION:Join us for a fun night of TRIVIA. Doors open at 5:30 for dinner\, games begin at 6:00. Corned Beef and cabbage or baked potato bar. Drinks and libations can also be purchased. Each game will be $5.00. For those 10 and under we will have a Leprechaun trap competition\, bonus prize for the best dressed leprechaun. This is a family friendly event so load up the car and come on out to Briceland. \n 
URL:https://beginningsbriceland.org/event/trivia-night/
END:VEVENT
BEGIN:VEVENT
DTSTART;TZID=UTC:20191207T100000
DTEND;TZID=UTC:20191207T150000
DTSTAMP:20260424T162805
CREATED:20190924T175721Z
LAST-MODIFIED:20190924T175831Z
UID:414-1575712800-1575730800@beginningsbriceland.org
SUMMARY:Children's Winter Faire
DESCRIPTION:Details coming soon.
URL:https://beginningsbriceland.org/event/childrens-winter-faire-2/
END:VEVENT
BEGIN:VEVENT
DTSTART;VALUE=DATE:20181201
DTEND;VALUE=DATE:20181202
DTSTAMP:20260424T162805
CREATED:20180420T182701Z
LAST-MODIFIED:20180420T182701Z
UID:299-1543622400-1543708799@beginningsbriceland.org
SUMMARY:Children's Winter Faire
DESCRIPTION:
URL:https://beginningsbriceland.org/event/childrens-winter-faire/
END:VEVENT
BEGIN:VEVENT
DTSTART;VALUE=DATE:20180611
DTEND;VALUE=DATE:20180614
DTSTAMP:20260424T162805
CREATED:20180420T182428Z
LAST-MODIFIED:20180420T182428Z
UID:294-1528675200-1528934399@beginningsbriceland.org
SUMMARY:Skyfish Campout
DESCRIPTION:
URL:https://beginningsbriceland.org/event/skyfish-campout/
END:VEVENT
BEGIN:VEVENT
DTSTART;VALUE=DATE:20180607
DTEND;VALUE=DATE:20180608
DTSTAMP:20260424T162805
CREATED:20180420T182318Z
LAST-MODIFIED:20180420T182318Z
UID:292-1528329600-1528415999@beginningsbriceland.org
SUMMARY:Skyfish Graduation
DESCRIPTION:
URL:https://beginningsbriceland.org/event/skyfish-graduation/
END:VEVENT
BEGIN:VEVENT
DTSTART;VALUE=DATE:20180506
DTEND;VALUE=DATE:20180507
DTSTAMP:20260424T162805
CREATED:20180420T182558Z
LAST-MODIFIED:20180420T182558Z
UID:297-1525564800-1525651199@beginningsbriceland.org
SUMMARY:May Faire
DESCRIPTION:
URL:https://beginningsbriceland.org/event/may-faire/
END:VEVENT
END:VCALENDAR